BEGIN:VCALENDAR
VERSION:2.0
PRODID:-// - ECPv6.15.20//NONSGML v1.0//EN
CALSCALE:GREGORIAN
METHOD:PUBLISH
X-ORIGINAL-URL:https://emissionpossible.com.au
X-WR-CALDESC:Events for 
REFRESH-INTERVAL;VALUE=DURATION:PT1H
X-Robots-Tag:noindex
X-PUBLISHED-TTL:PT1H
BEGIN:VTIMEZONE
TZID:UTC
BEGIN:STANDARD
TZOFFSETFROM:+0000
TZOFFSETTO:+0000
TZNAME:UTC
DTSTART:20250101T000000
END:STANDARD
END:VTIMEZONE
BEGIN:VEVENT
DTSTART;TZID=UTC:20260425T100000
DTEND;TZID=UTC:20260425T130000
DTSTAMP:20260424T003257
CREATED:20260412T051811Z
LAST-MODIFIED:20260412T052857Z
UID:3120-1777111200-1777122000@emissionpossible.com.au
SUMMARY:Energy Advisory Service - April
DESCRIPTION:Get free advice to reduce your bills and make your home or business more comfortable and energy efficient – whether you rent or own.Book in for a free one-on-one session with Mission Possible’s volunteers to get independent support to make decisions on heating and cooling\, appliances\, passive changes\, solar and batteries\, electric vehicles – and much more!
URL:https://emissionpossible.com.au/events-and-programs/energy-advisory-service-9/
LOCATION:Ngutungka West Lakes\, 9 Charles St\, West Lakes\, South Australia\, 5021\, Australia
CATEGORIES:Advisory Service,Community
ATTACH;FMTTYPE=image/jpeg:https://emissionpossible.com.au/wp-content/uploads/2025/04/NP_8593-scaled.jpg
END:VEVENT
END:VCALENDAR