BEGIN:VCALENDAR
VERSION:2.0
PRODID:-// - ECPv6.15.20//NONSGML v1.0//EN
CALSCALE:GREGORIAN
METHOD:PUBLISH
X-ORIGINAL-URL:https://emissionpossible.com.au
X-WR-CALDESC:Events for 
REFRESH-INTERVAL;VALUE=DURATION:PT1H
X-Robots-Tag:noindex
X-PUBLISHED-TTL:PT1H
BEGIN:VTIMEZONE
TZID:UTC
BEGIN:STANDARD
TZOFFSETFROM:+0000
TZOFFSETTO:+0000
TZNAME:UTC
DTSTART:20240101T000000
END:STANDARD
END:VTIMEZONE
BEGIN:VEVENT
DTSTART;TZID=UTC:20250505T173000
DTEND;TZID=UTC:20250505T183000
DTSTAMP:20260423T031145
CREATED:20250413T084759Z
LAST-MODIFIED:20250413T084759Z
UID:2553-1746466200-1746469800@emissionpossible.com.au
SUMMARY:Managing Household Expenses – Energy Bills
DESCRIPTION:Discover simple and practical ways to reduce your bills and make your home more comfortable and energy efficient – whether you rent or own.
URL:https://emissionpossible.com.au/events-and-programs/managing-household-expenses-energy-bills/
LOCATION:Mitchell Park Sports and Community Centre\, 139 Bradley Grove\, Mitchell Park\, South Australia\, 5043\, Australia
CATEGORIES:Workshop
ATTACH;FMTTYPE=image/jpeg:https://emissionpossible.com.au/wp-content/uploads/2024/06/Park-Drive-011-scaled.jpg
END:VEVENT
END:VCALENDAR