BEGIN:VCALENDAR
VERSION:2.0
PRODID:-// - ECPv6.15.20//NONSGML v1.0//EN
CALSCALE:GREGORIAN
METHOD:PUBLISH
X-ORIGINAL-URL:https://emissionpossible.com.au
X-WR-CALDESC:Events for 
REFRESH-INTERVAL;VALUE=DURATION:PT1H
X-Robots-Tag:noindex
X-PUBLISHED-TTL:PT1H
BEGIN:VTIMEZONE
TZID:UTC
BEGIN:STANDARD
TZOFFSETFROM:+0000
TZOFFSETTO:+0000
TZNAME:UTC
DTSTART:20250101T000000
END:STANDARD
END:VTIMEZONE
BEGIN:VEVENT
DTSTART;TZID=UTC:20260505T180000
DTEND;TZID=UTC:20260505T193000
DTSTAMP:20260424T003357
CREATED:20260418T070432Z
LAST-MODIFIED:20260418T070432Z
UID:3159-1778004000-1778009400@emissionpossible.com.au
SUMMARY:Smart Homes\, Smaller Bills: Your Guide to Home Energy Efficiency
DESCRIPTION:Whether you rent\, own\, or live in a strata\, this free community info session is for YOU. \n\n\n\n\nEnergy bills are climbing\, but the good news is there’s plenty you can do to take control. Join Mission Possible for a practical\, jargon-free workshop where you’ll discover how small changes at home can lead to big savings on your energy bills and a more comfortable place to live.
URL:https://emissionpossible.com.au/events-and-programs/smart-homes-smaller-bills-your-guide-to-home-energy-efficiency/
LOCATION:19 on Green Community Centre\, 19 Green Street\, Brompton\, South Australia\, 5007\, Australia
CATEGORIES:Community,Workshop
ATTACH;FMTTYPE=application/pdf:https://emissionpossible.com.au/wp-content/uploads/2026/04/Smart-homes-smaller-bills-A4-Poster-1-55.pdf
END:VEVENT
BEGIN:VEVENT
DTSTART;TZID=UTC:20260523T100000
DTEND;TZID=UTC:20260523T130000
DTSTAMP:20260424T003357
CREATED:20260412T051959Z
LAST-MODIFIED:20260412T052944Z
UID:3122-1779530400-1779541200@emissionpossible.com.au
SUMMARY:Energy Advisory Service - May
DESCRIPTION:Get free advice to reduce your bills and make your home or business more comfortable and energy efficient – whether you rent or own. Book in for a free one-on-one session with Mission Possible’s volunteers to get independent support to make decisions on heating and cooling\, appliances\, passive changes\, solar and batteries\, electric vehicles – and much more!
URL:https://emissionpossible.com.au/events-and-programs/energy-advisory-service-10/
LOCATION:Ngutungka West Lakes\, 9 Charles St\, West Lakes\, South Australia\, 5021\, Australia
CATEGORIES:Advisory Service,Community
ATTACH;FMTTYPE=image/jpeg:https://emissionpossible.com.au/wp-content/uploads/2025/04/NP_8593-scaled.jpg
END:VEVENT
END:VCALENDAR